Package: pwalign Version: 1.3.2 Command: /home/rapidbuild/bbs-3.21-bioc-rapid/R/bin/R CMD INSTALL pwalign StartedAt: 2025-02-11 06:19:01 -0500 (Tue, 11 Feb 2025) EndedAt: 2025-02-11 06:19:15 -0500 (Tue, 11 Feb 2025) EllapsedTime: 13.2 seconds RetCode: 0 Status: OK