Package: preprocessCore Version: 1.69.0 Command: /home/rapidbuild/bbs-3.21-bioc-rapid/R/bin/R CMD build --keep-empty-dirs --no-resave-data preprocessCore StartedAt: 2025-02-11 07:22:52 -0500 (Tue, 11 Feb 2025) EndedAt: 2025-02-11 07:22:53 -0500 (Tue, 11 Feb 2025) EllapsedTime: 1.0 seconds RetCode: 0 Status: OK PackageFile: preprocessCore_1.69.0.tar.gz PackageFileSize: 121.1 KiB