Package: pcaMethods Version: 1.99.0 Command: /home/rapidbuild/bbs-3.21-bioc-rapid/R/bin/R CMD INSTALL pcaMethods StartedAt: 2025-02-10 06:10:46 -0500 (Mon, 10 Feb 2025) EndedAt: 2025-02-10 06:10:57 -0500 (Mon, 10 Feb 2025) EllapsedTime: 11.5 seconds RetCode: 0 Status: OK