Package: pcaMethods Version: 1.99.0 Command: /home/rapidbuild/bbs-3.21-bioc-rapid/R/bin/R CMD build --keep-empty-dirs --no-resave-data pcaMethods StartedAt: 2025-02-05 07:19:11 -0500 (Wed, 05 Feb 2025) EndedAt: 2025-02-05 07:20:26 -0500 (Wed, 05 Feb 2025) EllapsedTime: 74.3 seconds RetCode: 0 Status: OK PackageFile: pcaMethods_1.99.0.tar.gz PackageFileSize: 1016 KiB