Package: pathview Version: 1.47.0 Command: /home/rapidbuild/bbs-3.21-bioc-rapid/R/bin/R CMD INSTALL pathview StartedAt: 2025-02-05 06:22:40 -0500 (Wed, 05 Feb 2025) EndedAt: 2025-02-05 06:22:57 -0500 (Wed, 05 Feb 2025) EllapsedTime: 16.4 seconds RetCode: 0 Status: OK