Package: pRoloc Version: 1.49.0 Command: /home/rapidbuild/bbs-3.22-bioc-rapid/R/bin/R CMD build --keep-empty-dirs --no-resave-data pRoloc StartedAt: 2025-04-29 07:14:47 -0400 (Tue, 29 Apr 2025) EndedAt: 2025-04-29 07:18:09 -0400 (Tue, 29 Apr 2025) EllapsedTime: 202.1 seconds RetCode: 0 Status: OK PackageFile: pRoloc_1.49.0.tar.gz PackageFileSize: 10.8 MiB