Package: openCyto Version: 2.19.0 Command: /home/rapidbuild/bbs-3.21-bioc-rapid/R/bin/R CMD INSTALL openCyto StartedAt: 2025-02-05 06:17:12 -0500 (Wed, 05 Feb 2025) EndedAt: 2025-02-05 06:17:36 -0500 (Wed, 05 Feb 2025) EllapsedTime: 23.6 seconds RetCode: 0 Status: OK