Package: openCyto Version: 2.19.0 Command: /home/rapidbuild/bbs-3.21-bioc-rapid/R/bin/R CMD build --keep-empty-dirs --no-resave-data openCyto StartedAt: 2025-02-05 07:18:11 -0500 (Wed, 05 Feb 2025) EndedAt: 2025-02-05 07:19:11 -0500 (Wed, 05 Feb 2025) EllapsedTime: 59.6 seconds RetCode: 0 Status: OK PackageFile: openCyto_2.19.0.tar.gz PackageFileSize: 1.769 MiB