Package: mzR Version: 2.41.1 Command: /home/rapidbuild/bbs-3.21-bioc-rapid/R/bin/R CMD check --install=check:mzR.install-out.txt --library=/home/rapidbuild/bbs-3.21-bioc-rapid/R/site-library --timings mzR_2.41.1.tar.gz StartedAt: 2025-02-11 03:22:48 -0500 (Tue, 11 Feb 2025) EndedAt: 2025-02-11 03:24:14 -0500 (Tue, 11 Feb 2025) EllapsedTime: 86.3 seconds RetCode: 0 Status: WARNINGS CheckDir: mzR.Rcheck Warnings: 2