Package: mzR Version: 2.41.1 Command: /home/rapidbuild/bbs-3.21-bioc-rapid/R/bin/R CMD build --keep-empty-dirs --no-resave-data mzR StartedAt: 2025-02-11 07:19:42 -0500 (Tue, 11 Feb 2025) EndedAt: 2025-02-11 07:22:52 -0500 (Tue, 11 Feb 2025) EllapsedTime: 189.9 seconds RetCode: 1 Status: ERROR PackageFile: None PackageFileSize: NA