Package: mzID Version: 1.45.0 Command: /home/rapidbuild/bbs-3.21-bioc-rapid/R/bin/R CMD INSTALL mzID StartedAt: 2025-02-05 06:10:07 -0500 (Wed, 05 Feb 2025) EndedAt: 2025-02-05 06:10:11 -0500 (Wed, 05 Feb 2025) EllapsedTime: 4.0 seconds RetCode: 0 Status: OK