Package: multtest Version: 2.65.0 Command: /home/rapidbuild/bbs-3.22-bioc-rapid/R/bin/R CMD check --install=check:multtest.install-out.txt --library=/home/rapidbuild/bbs-3.22-bioc-rapid/R/site-library --timings multtest_2.65.0.tar.gz StartedAt: 2025-05-01 08:54:16 -0400 (Thu, 01 May 2025) EndedAt: 2025-05-01 08:55:04 -0400 (Thu, 01 May 2025) EllapsedTime: 48.6 seconds RetCode: 0 Status: WARNINGS CheckDir: multtest.Rcheck Warnings: 3