Package: minet Version: 3.65.0 Command: /home/rapidbuild/bbs-3.21-bioc-rapid/R/bin/R CMD INSTALL minet StartedAt: 2025-02-11 06:04:36 -0500 (Tue, 11 Feb 2025) EndedAt: 2025-02-11 06:04:40 -0500 (Tue, 11 Feb 2025) EllapsedTime: 4.2 seconds RetCode: 0 Status: OK