Package: minet Version: 3.65.0 Command: /home/rapidbuild/bbs-3.21-bioc-rapid/R/bin/R CMD check --install=check:minet.install-out.txt --library=/home/rapidbuild/bbs-3.21-bioc-rapid/R/site-library --timings minet_3.65.0.tar.gz StartedAt: 2025-02-06 09:02:28 -0500 (Thu, 06 Feb 2025) EndedAt: 2025-02-06 09:02:41 -0500 (Thu, 06 Feb 2025) EllapsedTime: 13.0 seconds RetCode: 0 Status: OK CheckDir: minet.Rcheck Warnings: 0