Package: microRNA Version: 1.65.1 Command: /home/rapidbuild/bbs-3.21-bioc-rapid/R/bin/R CMD INSTALL microRNA StartedAt: 2025-02-21 12:16:23 -0500 (Fri, 21 Feb 2025) EndedAt: 2025-02-21 12:16:33 -0500 (Fri, 21 Feb 2025) EllapsedTime: 9.4 seconds RetCode: 0 Status: OK