Package: metapod Version: 1.15.0 Command: /home/rapidbuild/bbs-3.21-bioc-rapid/R/bin/R CMD INSTALL metapod StartedAt: 2025-02-05 06:08:32 -0500 (Wed, 05 Feb 2025) EndedAt: 2025-02-05 06:08:51 -0500 (Wed, 05 Feb 2025) EllapsedTime: 18.7 seconds RetCode: 0 Status: OK