Package: metapod Version: 1.15.0 Command: /home/rapidbuild/bbs-3.21-bioc-rapid/R/bin/R CMD check --install=check:metapod.install-out.txt --library=/home/rapidbuild/bbs-3.21-bioc-rapid/R/site-library --timings metapod_1.15.0.tar.gz StartedAt: 2025-02-05 09:06:35 -0500 (Wed, 05 Feb 2025) EndedAt: 2025-02-05 09:06:58 -0500 (Wed, 05 Feb 2025) EllapsedTime: 23.3 seconds RetCode: 0 Status: OK CheckDir: metapod.Rcheck Warnings: 0