Package: mbkmeans Version: 1.23.0 Command: /home/rapidbuild/bbs-3.21-bioc-rapid/R/bin/R CMD INSTALL mbkmeans StartedAt: 2025-02-06 06:29:22 -0500 (Thu, 06 Feb 2025) EndedAt: 2025-02-06 06:30:07 -0500 (Thu, 06 Feb 2025) EllapsedTime: 45.0 seconds RetCode: 0 Status: OK