Package: mbkmeans Version: 1.25.0 Command: /home/rapidbuild/bbs-3.22-bioc-rapid/R/bin/R CMD check --install=check:mbkmeans.install-out.txt --library=/home/rapidbuild/bbs-3.22-bioc-rapid/R/site-library --timings mbkmeans_1.25.0.tar.gz StartedAt: 2025-05-02 08:56:32 -0400 (Fri, 02 May 2025) EndedAt: 2025-05-02 09:01:08 -0400 (Fri, 02 May 2025) EllapsedTime: 276.2 seconds RetCode: 0 Status: OK CheckDir: mbkmeans.Rcheck Warnings: 0