Package: maftools Version: 2.23.0 Command: /home/rapidbuild/bbs-3.21-bioc-rapid/R/bin/R CMD INSTALL maftools StartedAt: 2025-02-11 06:14:20 -0500 (Tue, 11 Feb 2025) EndedAt: 2025-02-11 06:14:32 -0500 (Tue, 11 Feb 2025) EllapsedTime: 12.4 seconds RetCode: 0 Status: OK