Package: lpsymphony Version: 1.35.0 Command: /home/rapidbuild/bbs-3.21-bioc-rapid/R/bin/R CMD INSTALL lpsymphony StartedAt: 2025-02-05 06:04:32 -0500 (Wed, 05 Feb 2025) EndedAt: 2025-02-05 06:12:01 -0500 (Wed, 05 Feb 2025) EllapsedTime: 449.9 seconds RetCode: 0 Status: OK