Package: limma Version: 3.65.5 Command: /home/rapidbuild/bbs-3.22-bioc-rapid/R/bin/R CMD build --keep-empty-dirs --no-resave-data limma StartedAt: 2025-10-14 13:07:17 -0400 (Tue, 14 Oct 2025) EndedAt: 2025-10-14 13:07:35 -0400 (Tue, 14 Oct 2025) EllapsedTime: 18.3 seconds RetCode: 0 Status: OK PackageFile: limma_3.65.5.tar.gz PackageFileSize: 2.717 MiB