Package: keggorthology Version: 2.61.0 Command: /home/rapidbuild/bbs-3.22-bioc-rapid/R/bin/R CMD INSTALL keggorthology StartedAt: 2025-10-22 06:15:07 -0400 (Wed, 22 Oct 2025) EndedAt: 2025-10-22 06:15:19 -0400 (Wed, 22 Oct 2025) EllapsedTime: 11.7 seconds RetCode: 0 Status: OK