Package: keggorthology Version: 2.61.0 Command: /home/rapidbuild/bbs-3.22-bioc-rapid/R/bin/R CMD check --install=check:keggorthology.install-out.txt --library=/home/rapidbuild/bbs-3.22-bioc-rapid/R/site-library --timings keggorthology_2.61.0.tar.gz StartedAt: 2025-05-08 08:43:23 -0400 (Thu, 08 May 2025) EndedAt: 2025-05-08 08:44:34 -0400 (Thu, 08 May 2025) EllapsedTime: 70.3 seconds RetCode: 0 Status: OK CheckDir: keggorthology.Rcheck Warnings: 0