Package: keggorthology Version: 2.61.0 Command: /home/rapidbuild/bbs-3.22-bioc-rapid/R/bin/R CMD build --keep-empty-dirs --no-resave-data keggorthology StartedAt: 2025-04-28 07:02:50 -0400 (Mon, 28 Apr 2025) EndedAt: 2025-04-28 07:03:08 -0400 (Mon, 28 Apr 2025) EllapsedTime: 18.3 seconds RetCode: 0 Status: OK PackageFile: keggorthology_2.61.0.tar.gz PackageFileSize: 787.8 KiB