Package: keggorthology Version: 2.61.0 Maintainer: VJ Carey MaintainerEmail: stvjc at channing.harvard.edu git_url: https://git.bioconductor.org/packages/keggorthology git_branch: devel git_last_commit: ad22c6b git_last_commit_date: 2025-04-15 09:40:38 -0400 (Tue, 15 Apr 2025)