Package: karyoploteR Version: 1.33.0 Command: /home/rapidbuild/bbs-3.21-bioc-rapid/R/bin/R CMD INSTALL karyoploteR StartedAt: 2025-02-13 12:26:20 -0500 (Thu, 13 Feb 2025) EndedAt: 2025-02-13 12:27:05 -0500 (Thu, 13 Feb 2025) EllapsedTime: 44.6 seconds RetCode: 0 Status: OK