Package: interactiveDisplayBase Version: 1.45.0 Command: /home/rapidbuild/bbs-3.21-bioc-rapid/R/bin/R CMD build --keep-empty-dirs --no-resave-data interactiveDisplayBase StartedAt: 2025-02-05 07:07:07 -0500 (Wed, 05 Feb 2025) EndedAt: 2025-02-05 07:07:12 -0500 (Wed, 05 Feb 2025) EllapsedTime: 5.0 seconds RetCode: 0 Status: OK PackageFile: interactiveDisplayBase_1.45.0.tar.gz PackageFileSize: 7.574 KiB