Package: interactiveDisplay Version: 1.45.1 Command: /home/rapidbuild/bbs-3.21-bioc-rapid/R/bin/R CMD INSTALL interactiveDisplay StartedAt: 2025-02-11 06:24:38 -0500 (Tue, 11 Feb 2025) EndedAt: 2025-02-11 06:24:56 -0500 (Tue, 11 Feb 2025) EllapsedTime: 18.0 seconds RetCode: 0 Status: OK