Package: interactiveDisplay Version: 1.47.0 Command: /home/rapidbuild/bbs-3.22-bioc-rapid/R/bin/R CMD check --install=check:interactiveDisplay.install-out.txt --library=/home/rapidbuild/bbs-3.22-bioc-rapid/R/site-library --timings interactiveDisplay_1.47.0.tar.gz StartedAt: 2025-05-04 08:44:44 -0400 (Sun, 04 May 2025) EndedAt: 2025-05-04 08:47:11 -0400 (Sun, 04 May 2025) EllapsedTime: 146.9 seconds RetCode: 0 Status: OK CheckDir: interactiveDisplay.Rcheck Warnings: 0