Package: interactiveDisplay Version: 1.45.1 Command: /home/rapidbuild/bbs-3.21-bioc-rapid/R/bin/R CMD build --keep-empty-dirs --no-resave-data interactiveDisplay StartedAt: 2025-02-13 13:01:30 -0500 (Thu, 13 Feb 2025) EndedAt: 2025-02-13 13:02:12 -0500 (Thu, 13 Feb 2025) EllapsedTime: 42.0 seconds RetCode: 0 Status: OK PackageFile: interactiveDisplay_1.45.1.tar.gz PackageFileSize: 4.561 MiB