Package: impute Version: 1.81.0 Command: /home/rapidbuild/bbs-3.21-bioc-rapid/R/bin/R CMD build --keep-empty-dirs --no-resave-data impute StartedAt: 2025-02-05 07:06:18 -0500 (Wed, 05 Feb 2025) EndedAt: 2025-02-05 07:06:19 -0500 (Wed, 05 Feb 2025) EllapsedTime: 1.0 seconds RetCode: 0 Status: OK PackageFile: impute_1.81.0.tar.gz PackageFileSize: 626.6 KiB