Package: illuminaio Version: 0.51.0 Command: /home/rapidbuild/bbs-3.22-bioc-rapid/R/bin/R CMD INSTALL illuminaio StartedAt: 2025-09-30 06:05:27 -0400 (Tue, 30 Sep 2025) EndedAt: 2025-09-30 06:05:29 -0400 (Tue, 30 Sep 2025) EllapsedTime: 2.0 seconds RetCode: 0 Status: OK