Package: hpar Version: 1.49.0 Command: /home/rapidbuild/bbs-3.21-bioc-rapid/R/bin/R CMD INSTALL hpar StartedAt: 2025-02-05 06:20:59 -0500 (Wed, 05 Feb 2025) EndedAt: 2025-02-05 06:21:12 -0500 (Wed, 05 Feb 2025) EllapsedTime: 13.2 seconds RetCode: 0 Status: OK