Package: hpar Version: 1.49.0 Command: /home/rapidbuild/bbs-3.21-bioc-rapid/R/bin/R CMD check --install=check:hpar.install-out.txt --library=/home/rapidbuild/bbs-3.21-bioc-rapid/R/site-library --timings hpar_1.49.0.tar.gz StartedAt: 2025-02-05 08:56:05 -0500 (Wed, 05 Feb 2025) EndedAt: 2025-02-05 08:58:25 -0500 (Wed, 05 Feb 2025) EllapsedTime: 140.0 seconds RetCode: 0 Status: OK CheckDir: hpar.Rcheck Warnings: 0