Package: hpar Version: 1.49.0 Command: /home/rapidbuild/bbs-3.21-bioc-rapid/R/bin/R CMD build --keep-empty-dirs --no-resave-data hpar StartedAt: 2025-02-05 07:04:54 -0500 (Wed, 05 Feb 2025) EndedAt: 2025-02-05 07:05:24 -0500 (Wed, 05 Feb 2025) EllapsedTime: 30.0 seconds RetCode: 0 Status: OK PackageFile: hpar_1.49.0.tar.gz PackageFileSize: 885.3 KiB