Package: h5mread Version: 0.99.4 Command: /home/rapidbuild/bbs-3.21-bioc-rapid/R/bin/R CMD INSTALL h5mread StartedAt: 2025-02-14 12:12:37 -0500 (Fri, 14 Feb 2025) EndedAt: 2025-02-14 12:12:52 -0500 (Fri, 14 Feb 2025) EllapsedTime: 15.4 seconds RetCode: 0 Status: OK