Package: h5mread Version: 0.99.4 Command: /home/rapidbuild/bbs-3.21-bioc-rapid/R/bin/R CMD build --keep-empty-dirs --no-resave-data h5mread StartedAt: 2025-02-14 12:54:48 -0500 (Fri, 14 Feb 2025) EndedAt: 2025-02-14 12:56:58 -0500 (Fri, 14 Feb 2025) EllapsedTime: 129.9 seconds RetCode: 0 Status: OK PackageFile: h5mread_0.99.4.tar.gz PackageFileSize: 2.367 MiB