Package: graph Version: 1.85.1 Command: /home/rapidbuild/bbs-3.21-bioc-rapid/R/bin/R CMD check --install=check:graph.install-out.txt --library=/home/rapidbuild/bbs-3.21-bioc-rapid/R/site-library --timings graph_1.85.1.tar.gz StartedAt: 2025-02-05 08:51:49 -0500 (Wed, 05 Feb 2025) EndedAt: 2025-02-05 08:52:53 -0500 (Wed, 05 Feb 2025) EllapsedTime: 63.1 seconds RetCode: 1 Status: ERROR CheckDir: graph.Rcheck Warnings: NA