Package: glmGamPoi Version: 1.19.2 Command: /home/rapidbuild/bbs-3.21-bioc-rapid/R/bin/R CMD check --install=check:glmGamPoi.install-out.txt --library=/home/rapidbuild/bbs-3.21-bioc-rapid/R/site-library --timings glmGamPoi_1.19.2.tar.gz StartedAt: 2025-02-05 08:49:51 -0500 (Wed, 05 Feb 2025) EndedAt: 2025-02-05 08:58:28 -0500 (Wed, 05 Feb 2025) EllapsedTime: 516.9 seconds RetCode: 1 Status: ERROR CheckDir: glmGamPoi.Rcheck Warnings: NA