Package: ggtreeExtra Version: 1.19.0 Command: /home/rapidbuild/bbs-3.22-bioc-rapid/R/bin/R CMD check --install=check:ggtreeExtra.install-out.txt --library=/home/rapidbuild/bbs-3.22-bioc-rapid/R/site-library --timings ggtreeExtra_1.19.0.tar.gz StartedAt: 2025-05-05 08:31:17 -0400 (Mon, 05 May 2025) EndedAt: 2025-05-05 08:31:59 -0400 (Mon, 05 May 2025) EllapsedTime: 42.3 seconds RetCode: 0 Status: OK CheckDir: ggtreeExtra.Rcheck Warnings: 0