Package: ggcyto Version: 1.37.1 Command: /home/rapidbuild/bbs-3.22-bioc-rapid/R/bin/R CMD INSTALL ggcyto StartedAt: 2025-10-09 06:25:24 -0400 (Thu, 09 Oct 2025) EndedAt: 2025-10-09 06:25:36 -0400 (Thu, 09 Oct 2025) EllapsedTime: 12.4 seconds RetCode: 0 Status: OK