Package: ggbio Version: 1.55.0 Command: /home/rapidbuild/bbs-3.21-bioc-rapid/R/bin/R CMD INSTALL ggbio StartedAt: 2025-02-21 12:25:40 -0500 (Fri, 21 Feb 2025) EndedAt: 2025-02-21 12:26:31 -0500 (Fri, 21 Feb 2025) EllapsedTime: 50.7 seconds RetCode: 0 Status: OK