Package: ggbio Version: 1.55.0 Command: /home/rapidbuild/bbs-3.21-bioc-rapid/R/bin/R CMD check --install=check:ggbio.install-out.txt --library=/home/rapidbuild/bbs-3.21-bioc-rapid/R/site-library --timings ggbio_1.55.0.tar.gz StartedAt: 2025-02-21 14:22:58 -0500 (Fri, 21 Feb 2025) EndedAt: 2025-02-21 14:33:10 -0500 (Fri, 21 Feb 2025) EllapsedTime: 612.2 seconds RetCode: 0 Status: WARNINGS CheckDir: ggbio.Rcheck Warnings: 2