Package: geneplotter Version: 1.85.0 Command: /home/rapidbuild/bbs-3.21-bioc-rapid/R/bin/R CMD INSTALL geneplotter StartedAt: 2025-02-05 06:21:02 -0500 (Wed, 05 Feb 2025) EndedAt: 2025-02-05 06:21:15 -0500 (Wed, 05 Feb 2025) EllapsedTime: 12.2 seconds RetCode: 0 Status: OK