Package: geneplotter Version: 1.85.0 Command: /home/rapidbuild/bbs-3.21-bioc-rapid/R/bin/R CMD build --keep-empty-dirs --no-resave-data geneplotter StartedAt: 2025-02-05 06:56:17 -0500 (Wed, 05 Feb 2025) EndedAt: 2025-02-05 06:56:40 -0500 (Wed, 05 Feb 2025) EllapsedTime: 23.0 seconds RetCode: 0 Status: OK PackageFile: geneplotter_1.85.0.tar.gz PackageFileSize: 1.636 MiB