Package: gdsfmt Version: 1.43.1 Command: /home/rapidbuild/bbs-3.21-bioc-rapid/R/bin/R CMD INSTALL gdsfmt StartedAt: 2025-02-05 06:05:43 -0500 (Wed, 05 Feb 2025) EndedAt: 2025-02-05 06:08:42 -0500 (Wed, 05 Feb 2025) EllapsedTime: 178.9 seconds RetCode: 0 Status: OK