Package: gdsfmt Version: 1.43.1 Command: /home/rapidbuild/bbs-3.21-bioc-rapid/R/bin/R CMD check --install=check:gdsfmt.install-out.txt --library=/home/rapidbuild/bbs-3.21-bioc-rapid/R/site-library --timings gdsfmt_1.43.1.tar.gz StartedAt: 2025-02-05 08:41:01 -0500 (Wed, 05 Feb 2025) EndedAt: 2025-02-05 08:42:47 -0500 (Wed, 05 Feb 2025) EllapsedTime: 106.0 seconds RetCode: 0 Status: OK CheckDir: gdsfmt.Rcheck Warnings: 0