Package: gdsfmt Version: 1.43.1 Command: /home/rapidbuild/bbs-3.21-bioc-rapid/R/bin/R CMD build --keep-empty-dirs --no-resave-data gdsfmt StartedAt: 2025-02-05 06:55:28 -0500 (Wed, 05 Feb 2025) EndedAt: 2025-02-05 06:58:47 -0500 (Wed, 05 Feb 2025) EllapsedTime: 199.6 seconds RetCode: 0 Status: OK PackageFile: gdsfmt_1.43.1.tar.gz PackageFileSize: 2.796 MiB