Package: gage Version: 2.57.0 Command: /home/rapidbuild/bbs-3.21-bioc-rapid/R/bin/R CMD check --install=check:gage.install-out.txt --library=/home/rapidbuild/bbs-3.21-bioc-rapid/R/site-library --timings gage_2.57.0.tar.gz StartedAt: 2025-02-13 14:22:02 -0500 (Thu, 13 Feb 2025) EndedAt: 2025-02-13 14:25:12 -0500 (Thu, 13 Feb 2025) EllapsedTime: 190.2 seconds RetCode: 0 Status: WARNINGS CheckDir: gage.Rcheck Warnings: 2